BEGIN:VCALENDAR
VERSION:2.0
PRODID:https://www.kufer.de/kuferweb / DE
METHOD:PUBLISH
CALSCALE:GREGORIAN
X-WR-TIMEZONE:Europe/Berlin
BEGIN:VTIMEZONE
TZID:Europe/Berlin
X-LIC-LOCATION:Europe/Berlin
BEGIN:DAYLIGHT
TZOFFSETFROM:+0100
TZOFFSETTO:+0200
TZNAME:CEST
DTSTART:19700329T020000
RRULE:FREQ=YEARLY;INTERVAL=1;BYDAY=-1SU;BYMONTH=3
END:DAYLIGHT
BEGIN:STANDARD
TZOFFSETFROM:+0200
TZOFFSETTO:+0100
TZNAME:CET
DTSTART:19701025T030000
RRULE:FREQ=YEARLY;INTERVAL=1;BYDAY=-1SU;BYMONTH=10
END:STANDARD
END:VTIMEZONE
BEGIN:VEVENT
DTSTAMP:20260422T104326
DTSTART;TZID=Europe/Berlin:20260106T104500
DTEND;TZID=Europe/Berlin:20260106T121500
UID:26-1232-20260106T104500@DRKBILDUNG KV DÜSSELDORF  E.V.
SUMMARY:Eltern und Babys im ersten Lebensjahr-ElBa (Babys April-Juni/25) (26-1232) 
LOCATION:Flinger Broich 203 (Fortunapark), DRK - Familientreff Gerresheim, Flinger Broich 203, 40235 Düsseldorf
END:VEVENT
BEGIN:VEVENT
DTSTAMP:20260422T104326
DTSTART;TZID=Europe/Berlin:20260113T104500
DTEND;TZID=Europe/Berlin:20260113T121500
UID:26-1232-20260113T104500@DRKBILDUNG KV DÜSSELDORF  E.V.
SUMMARY:Eltern und Babys im ersten Lebensjahr-ElBa (Babys April-Juni/25) (26-1232) 
LOCATION:Flinger Broich 203 (Fortunapark), DRK - Familientreff Gerresheim, Flinger Broich 203, 40235 Düsseldorf
END:VEVENT
BEGIN:VEVENT
DTSTAMP:20260422T104326
DTSTART;TZID=Europe/Berlin:20260120T104500
DTEND;TZID=Europe/Berlin:20260120T121500
UID:26-1232-20260120T104500@DRKBILDUNG KV DÜSSELDORF  E.V.
SUMMARY:Eltern und Babys im ersten Lebensjahr-ElBa (Babys April-Juni/25) (26-1232) 
LOCATION:Flinger Broich 203 (Fortunapark), DRK - Familientreff Gerresheim, Flinger Broich 203, 40235 Düsseldorf
END:VEVENT
BEGIN:VEVENT
DTSTAMP:20260422T104326
DTSTART;TZID=Europe/Berlin:20260127T104500
DTEND;TZID=Europe/Berlin:20260127T121500
UID:26-1232-20260127T104500@DRKBILDUNG KV DÜSSELDORF  E.V.
SUMMARY:Eltern und Babys im ersten Lebensjahr-ElBa (Babys April-Juni/25) (26-1232) 
LOCATION:Flinger Broich 203 (Fortunapark), DRK - Familientreff Gerresheim, Flinger Broich 203, 40235 Düsseldorf
END:VEVENT
BEGIN:VEVENT
DTSTAMP:20260422T104326
DTSTART;TZID=Europe/Berlin:20260210T104500
DTEND;TZID=Europe/Berlin:20260210T121500
UID:26-1232-20260210T104500@DRKBILDUNG KV DÜSSELDORF  E.V.
SUMMARY:Eltern und Babys im ersten Lebensjahr-ElBa (Babys April-Juni/25) (26-1232) 
LOCATION:Flinger Broich 203 (Fortunapark), DRK - Familientreff Gerresheim, Flinger Broich 203, 40235 Düsseldorf
END:VEVENT
BEGIN:VEVENT
DTSTAMP:20260422T104326
DTSTART;TZID=Europe/Berlin:20260217T104500
DTEND;TZID=Europe/Berlin:20260217T121500
UID:26-1232-20260217T104500@DRKBILDUNG KV DÜSSELDORF  E.V.
SUMMARY:Eltern und Babys im ersten Lebensjahr-ElBa (Babys April-Juni/25) (26-1232) 
LOCATION:Flinger Broich 203 (Fortunapark), DRK - Familientreff Gerresheim, Flinger Broich 203, 40235 Düsseldorf
END:VEVENT
BEGIN:VEVENT
DTSTAMP:20260422T104326
DTSTART;TZID=Europe/Berlin:20260224T104500
DTEND;TZID=Europe/Berlin:20260224T121500
UID:26-1232-20260224T104500@DRKBILDUNG KV DÜSSELDORF  E.V.
SUMMARY:Eltern und Babys im ersten Lebensjahr-ElBa (Babys April-Juni/25) (26-1232) 
LOCATION:Flinger Broich 203 (Fortunapark), DRK - Familientreff Gerresheim, Flinger Broich 203, 40235 Düsseldorf
END:VEVENT
BEGIN:VEVENT
DTSTAMP:20260422T104326
DTSTART;TZID=Europe/Berlin:20260303T104500
DTEND;TZID=Europe/Berlin:20260303T121500
UID:26-1232-20260303T104500@DRKBILDUNG KV DÜSSELDORF  E.V.
SUMMARY:Eltern und Babys im ersten Lebensjahr-ElBa (Babys April-Juni/25) (26-1232) 
LOCATION:Flinger Broich 203 (Fortunapark), DRK - Familientreff Gerresheim, Flinger Broich 203, 40235 Düsseldorf
END:VEVENT
BEGIN:VEVENT
DTSTAMP:20260422T104326
DTSTART;TZID=Europe/Berlin:20260317T104500
DTEND;TZID=Europe/Berlin:20260317T121500
UID:26-1232-20260317T104500@DRKBILDUNG KV DÜSSELDORF  E.V.
SUMMARY:Eltern und Babys im ersten Lebensjahr-ElBa (Babys April-Juni/25) (26-1232) 
LOCATION:Flinger Broich 203 (Fortunapark), DRK - Familientreff Gerresheim, Flinger Broich 203, 40235 Düsseldorf
END:VEVENT
BEGIN:VEVENT
DTSTAMP:20260422T104326
DTSTART;TZID=Europe/Berlin:20260324T104500
DTEND;TZID=Europe/Berlin:20260324T121500
UID:26-1232-20260324T104500@DRKBILDUNG KV DÜSSELDORF  E.V.
SUMMARY:Eltern und Babys im ersten Lebensjahr-ElBa (Babys April-Juni/25) (26-1232) 
LOCATION:Flinger Broich 203 (Fortunapark), DRK - Familientreff Gerresheim, Flinger Broich 203, 40235 Düsseldorf
END:VEVENT
BEGIN:VEVENT
DTSTAMP:20260422T104326
DTSTART;TZID=Europe/Berlin:20260331T104500
DTEND;TZID=Europe/Berlin:20260331T121500
UID:26-1232-20260331T104500@DRKBILDUNG KV DÜSSELDORF  E.V.
DESCRIPTION:Ersatz für Ausfall am 03.02.2026
SUMMARY:Eltern und Babys im ersten Lebensjahr-ElBa (Babys April-Juni/25) (26-1232) 
LOCATION:Flinger Broich 203 (Fortunapark), DRK - Familientreff Gerresheim, Flinger Broich 203, 40235 Düsseldorf
END:VEVENT
BEGIN:VEVENT
DTSTAMP:20260422T104326
DTSTART;TZID=Europe/Berlin:20260407T104500
DTEND;TZID=Europe/Berlin:20260407T121500
UID:26-1232-20260407T104500@DRKBILDUNG KV DÜSSELDORF  E.V.
DESCRIPTION:Ersatz für Ausfall am 10.03.2026
SUMMARY:Eltern und Babys im ersten Lebensjahr-ElBa (Babys April-Juni/25) (26-1232) 
LOCATION:Flinger Broich 203 (Fortunapark), DRK - Familientreff Gerresheim, Flinger Broich 203, 40235 Düsseldorf
END:VEVENT
BEGIN:VEVENT
DTSTAMP:20260422T104326
DTSTART;TZID=Europe/Berlin:20260414T104500
DTEND;TZID=Europe/Berlin:20260414T121500
UID:26-1232-20260414T104500@DRKBILDUNG KV DÜSSELDORF  E.V.
SUMMARY:Eltern und Babys im ersten Lebensjahr-ElBa (Babys April-Juni/25) (26-1232) 
LOCATION:Flinger Broich 203 (Fortunapark), DRK - Familientreff Gerresheim, Flinger Broich 203, 40235 Düsseldorf
END:VEVENT
BEGIN:VEVENT
DTSTAMP:20260422T104326
DTSTART;TZID=Europe/Berlin:20260421T104500
DTEND;TZID=Europe/Berlin:20260421T121500
UID:26-1232-20260421T104500@DRKBILDUNG KV DÜSSELDORF  E.V.
SUMMARY:Eltern und Babys im ersten Lebensjahr-ElBa (Babys April-Juni/25) (26-1232) 
LOCATION:Flinger Broich 203 (Fortunapark), DRK - Familientreff Gerresheim, Flinger Broich 203, 40235 Düsseldorf
END:VEVENT
BEGIN:VEVENT
DTSTAMP:20260422T104326
DTSTART;TZID=Europe/Berlin:20260428T104500
DTEND;TZID=Europe/Berlin:20260428T121500
UID:26-1232-20260428T104500@DRKBILDUNG KV DÜSSELDORF  E.V.
SUMMARY:Eltern und Babys im ersten Lebensjahr-ElBa (Babys April-Juni/25) (26-1232) 
LOCATION:Flinger Broich 203 (Fortunapark), DRK - Familientreff Gerresheim, Flinger Broich 203, 40235 Düsseldorf
END:VEVENT
END:VCALENDAR