BEGIN:VCALENDAR
VERSION:2.0
PRODID:https://www.kufer.de/kuferweb / DE
METHOD:PUBLISH
CALSCALE:GREGORIAN
X-WR-TIMEZONE:Europe/Berlin
BEGIN:VTIMEZONE
TZID:Europe/Berlin
X-LIC-LOCATION:Europe/Berlin
BEGIN:DAYLIGHT
TZOFFSETFROM:+0100
TZOFFSETTO:+0200
TZNAME:CEST
DTSTART:19700329T020000
RRULE:FREQ=YEARLY;INTERVAL=1;BYDAY=-1SU;BYMONTH=3
END:DAYLIGHT
BEGIN:STANDARD
TZOFFSETFROM:+0200
TZOFFSETTO:+0100
TZNAME:CET
DTSTART:19701025T030000
RRULE:FREQ=YEARLY;INTERVAL=1;BYDAY=-1SU;BYMONTH=10
END:STANDARD
END:VTIMEZONE
BEGIN:VEVENT
DTSTAMP:20260423T142621
DTSTART;TZID=Europe/Berlin:20260519T121500
DTEND;TZID=Europe/Berlin:20260519T134500
UID:26-1074-20260519T121500@DRKBILDUNG KV DÜSSELDORF  E.V.
SUMMARY:Elternstart NRW für unsere Kleinsten ( Babys geb, Feb-April) (26-1074) 
LOCATION:Sternstraße 31, DRK- Aktivtreff Pempelfort, Sternstraße 31, 40479 Düsseldorf
END:VEVENT
BEGIN:VEVENT
DTSTAMP:20260423T142621
DTSTART;TZID=Europe/Berlin:20260602T121500
DTEND;TZID=Europe/Berlin:20260602T134500
UID:26-1074-20260602T121500@DRKBILDUNG KV DÜSSELDORF  E.V.
SUMMARY:Elternstart NRW für unsere Kleinsten ( Babys geb, Feb-April) (26-1074) 
LOCATION:Sternstraße 31, DRK- Aktivtreff Pempelfort, Sternstraße 31, 40479 Düsseldorf
END:VEVENT
BEGIN:VEVENT
DTSTAMP:20260423T142621
DTSTART;TZID=Europe/Berlin:20260609T121500
DTEND;TZID=Europe/Berlin:20260609T134500
UID:26-1074-20260609T121500@DRKBILDUNG KV DÜSSELDORF  E.V.
SUMMARY:Elternstart NRW für unsere Kleinsten ( Babys geb, Feb-April) (26-1074) 
LOCATION:Sternstraße 31, DRK- Aktivtreff Pempelfort, Sternstraße 31, 40479 Düsseldorf
END:VEVENT
BEGIN:VEVENT
DTSTAMP:20260423T142621
DTSTART;TZID=Europe/Berlin:20260616T121500
DTEND;TZID=Europe/Berlin:20260616T134500
UID:26-1074-20260616T121500@DRKBILDUNG KV DÜSSELDORF  E.V.
SUMMARY:Elternstart NRW für unsere Kleinsten ( Babys geb, Feb-April) (26-1074) 
LOCATION:Sternstraße 31, DRK- Aktivtreff Pempelfort, Sternstraße 31, 40479 Düsseldorf
END:VEVENT
BEGIN:VEVENT
DTSTAMP:20260423T142621
DTSTART;TZID=Europe/Berlin:20260623T121500
DTEND;TZID=Europe/Berlin:20260623T134500
UID:26-1074-20260623T121500@DRKBILDUNG KV DÜSSELDORF  E.V.
SUMMARY:Elternstart NRW für unsere Kleinsten ( Babys geb, Feb-April) (26-1074) 
LOCATION:Sternstraße 31, DRK- Aktivtreff Pempelfort, Sternstraße 31, 40479 Düsseldorf
END:VEVENT
END:VCALENDAR