BEGIN:VCALENDAR
VERSION:2.0
PRODID:https://www.kufer.de/kuferweb / DE
METHOD:PUBLISH
CALSCALE:GREGORIAN
X-WR-TIMEZONE:Europe/Berlin
BEGIN:VTIMEZONE
TZID:Europe/Berlin
X-LIC-LOCATION:Europe/Berlin
BEGIN:DAYLIGHT
TZOFFSETFROM:+0100
TZOFFSETTO:+0200
TZNAME:CEST
DTSTART:19700329T020000
RRULE:FREQ=YEARLY;INTERVAL=1;BYDAY=-1SU;BYMONTH=3
END:DAYLIGHT
BEGIN:STANDARD
TZOFFSETFROM:+0200
TZOFFSETTO:+0100
TZNAME:CET
DTSTART:19701025T030000
RRULE:FREQ=YEARLY;INTERVAL=1;BYDAY=-1SU;BYMONTH=10
END:STANDARD
END:VTIMEZONE
BEGIN:VEVENT
DTSTAMP:20260421T174541
DTSTART;TZID=Europe/Berlin:20250903T150000
DTEND;TZID=Europe/Berlin:20250903T163000
UID:25-7301BA-20250903T150000@DRKBILDUNG KV DÜSSELDORF  E.V.
SUMMARY:Sprachcafé Deutsch (25-7301BA) 
LOCATION:Jahnstr. 47, DRK-Haus Friedrichstadt, Jahnstr. 47, 40215 Düsseldorf
END:VEVENT
BEGIN:VEVENT
DTSTAMP:20260421T174541
DTSTART;TZID=Europe/Berlin:20250910T150000
DTEND;TZID=Europe/Berlin:20250910T163000
UID:25-7301BA-20250910T150000@DRKBILDUNG KV DÜSSELDORF  E.V.
SUMMARY:Sprachcafé Deutsch (25-7301BA) 
LOCATION:Jahnstr. 47, DRK-Haus Friedrichstadt, Jahnstr. 47, 40215 Düsseldorf
END:VEVENT
BEGIN:VEVENT
DTSTAMP:20260421T174541
DTSTART;TZID=Europe/Berlin:20250917T150000
DTEND;TZID=Europe/Berlin:20250917T163000
UID:25-7301BA-20250917T150000@DRKBILDUNG KV DÜSSELDORF  E.V.
SUMMARY:Sprachcafé Deutsch (25-7301BA) 
LOCATION:Jahnstr. 47, DRK-Haus Friedrichstadt, Jahnstr. 47, 40215 Düsseldorf
END:VEVENT
BEGIN:VEVENT
DTSTAMP:20260421T174541
DTSTART;TZID=Europe/Berlin:20250924T150000
DTEND;TZID=Europe/Berlin:20250924T163000
UID:25-7301BA-20250924T150000@DRKBILDUNG KV DÜSSELDORF  E.V.
SUMMARY:Sprachcafé Deutsch (25-7301BA) 
LOCATION:Jahnstr. 47, DRK-Haus Friedrichstadt, Jahnstr. 47, 40215 Düsseldorf
END:VEVENT
BEGIN:VEVENT
DTSTAMP:20260421T174541
DTSTART;TZID=Europe/Berlin:20251001T150000
DTEND;TZID=Europe/Berlin:20251001T163000
UID:25-7301BA-20251001T150000@DRKBILDUNG KV DÜSSELDORF  E.V.
SUMMARY:Sprachcafé Deutsch (25-7301BA) 
LOCATION:Jahnstr. 47, DRK-Haus Friedrichstadt, Jahnstr. 47, 40215 Düsseldorf
END:VEVENT
BEGIN:VEVENT
DTSTAMP:20260421T174541
DTSTART;TZID=Europe/Berlin:20251008T150000
DTEND;TZID=Europe/Berlin:20251008T163000
UID:25-7301BA-20251008T150000@DRKBILDUNG KV DÜSSELDORF  E.V.
SUMMARY:Sprachcafé Deutsch (25-7301BA) 
LOCATION:Jahnstr. 47, DRK-Haus Friedrichstadt, Jahnstr. 47, 40215 Düsseldorf
END:VEVENT
BEGIN:VEVENT
DTSTAMP:20260421T174541
DTSTART;TZID=Europe/Berlin:20251015T150000
DTEND;TZID=Europe/Berlin:20251015T163000
UID:25-7301BA-20251015T150000@DRKBILDUNG KV DÜSSELDORF  E.V.
SUMMARY:Sprachcafé Deutsch (25-7301BA) 
LOCATION:Jahnstr. 47, DRK-Haus Friedrichstadt, Jahnstr. 47, 40215 Düsseldorf
END:VEVENT
BEGIN:VEVENT
DTSTAMP:20260421T174541
DTSTART;TZID=Europe/Berlin:20251022T150000
DTEND;TZID=Europe/Berlin:20251022T163000
UID:25-7301BA-20251022T150000@DRKBILDUNG KV DÜSSELDORF  E.V.
SUMMARY:Sprachcafé Deutsch (25-7301BA) 
LOCATION:Jahnstr. 47, DRK-Haus Friedrichstadt, Jahnstr. 47, 40215 Düsseldorf
END:VEVENT
BEGIN:VEVENT
DTSTAMP:20260421T174541
DTSTART;TZID=Europe/Berlin:20251029T150000
DTEND;TZID=Europe/Berlin:20251029T163000
UID:25-7301BA-20251029T150000@DRKBILDUNG KV DÜSSELDORF  E.V.
SUMMARY:Sprachcafé Deutsch (25-7301BA) 
LOCATION:Jahnstr. 47, DRK-Haus Friedrichstadt, Jahnstr. 47, 40215 Düsseldorf
END:VEVENT
BEGIN:VEVENT
DTSTAMP:20260421T174541
DTSTART;TZID=Europe/Berlin:20251105T150000
DTEND;TZID=Europe/Berlin:20251105T163000
UID:25-7301BA-20251105T150000@DRKBILDUNG KV DÜSSELDORF  E.V.
SUMMARY:Sprachcafé Deutsch (25-7301BA) 
LOCATION:Jahnstr. 47, DRK-Haus Friedrichstadt, Jahnstr. 47, 40215 Düsseldorf
END:VEVENT
BEGIN:VEVENT
DTSTAMP:20260421T174541
DTSTART;TZID=Europe/Berlin:20251112T150000
DTEND;TZID=Europe/Berlin:20251112T163000
UID:25-7301BA-20251112T150000@DRKBILDUNG KV DÜSSELDORF  E.V.
SUMMARY:Sprachcafé Deutsch (25-7301BA) 
LOCATION:Jahnstr. 47, DRK-Haus Friedrichstadt, Jahnstr. 47, 40215 Düsseldorf
END:VEVENT
BEGIN:VEVENT
DTSTAMP:20260421T174541
DTSTART;TZID=Europe/Berlin:20251119T150000
DTEND;TZID=Europe/Berlin:20251119T163000
UID:25-7301BA-20251119T150000@DRKBILDUNG KV DÜSSELDORF  E.V.
SUMMARY:Sprachcafé Deutsch (25-7301BA) 
LOCATION:Jahnstr. 47, DRK-Haus Friedrichstadt, Jahnstr. 47, 40215 Düsseldorf
END:VEVENT
BEGIN:VEVENT
DTSTAMP:20260421T174541
DTSTART;TZID=Europe/Berlin:20251126T150000
DTEND;TZID=Europe/Berlin:20251126T163000
UID:25-7301BA-20251126T150000@DRKBILDUNG KV DÜSSELDORF  E.V.
SUMMARY:Sprachcafé Deutsch (25-7301BA) 
LOCATION:Jahnstr. 47, DRK-Haus Friedrichstadt, Jahnstr. 47, 40215 Düsseldorf
END:VEVENT
BEGIN:VEVENT
DTSTAMP:20260421T174541
DTSTART;TZID=Europe/Berlin:20251203T150000
DTEND;TZID=Europe/Berlin:20251203T163000
UID:25-7301BA-20251203T150000@DRKBILDUNG KV DÜSSELDORF  E.V.
SUMMARY:Sprachcafé Deutsch (25-7301BA) 
LOCATION:Jahnstr. 47, DRK-Haus Friedrichstadt, Jahnstr. 47, 40215 Düsseldorf
END:VEVENT
BEGIN:VEVENT
DTSTAMP:20260421T174541
DTSTART;TZID=Europe/Berlin:20251210T150000
DTEND;TZID=Europe/Berlin:20251210T163000
UID:25-7301BA-20251210T150000@DRKBILDUNG KV DÜSSELDORF  E.V.
SUMMARY:Sprachcafé Deutsch (25-7301BA) 
LOCATION:Jahnstr. 47, DRK-Haus Friedrichstadt, Jahnstr. 47, 40215 Düsseldorf
END:VEVENT
BEGIN:VEVENT
DTSTAMP:20260421T174541
DTSTART;TZID=Europe/Berlin:20251217T150000
DTEND;TZID=Europe/Berlin:20251217T163000
UID:25-7301BA-20251217T150000@DRKBILDUNG KV DÜSSELDORF  E.V.
SUMMARY:Sprachcafé Deutsch (25-7301BA) 
LOCATION:Jahnstr. 47, DRK-Haus Friedrichstadt, Jahnstr. 47, 40215 Düsseldorf
END:VEVENT
END:VCALENDAR